BEGIN:VCALENDAR
VERSION:2.0
PRODID:-//5th Avenue Dance Gold Coast - ECPv6.15.20//NONSGML v1.0//EN
CALSCALE:GREGORIAN
METHOD:PUBLISH
X-ORIGINAL-URL:https://5thavenuedance.com.au
X-WR-CALDESC:Events for 5th Avenue Dance Gold Coast
REFRESH-INTERVAL;VALUE=DURATION:PT1H
X-Robots-Tag:noindex
X-PUBLISHED-TTL:PT1H
BEGIN:VTIMEZONE
TZID:Australia/Brisbane
BEGIN:STANDARD
TZOFFSETFROM:+1000
TZOFFSETTO:+1000
TZNAME:AEST
DTSTART:20250101T000000
END:STANDARD
END:VTIMEZONE
BEGIN:VEVENT
DTSTART;TZID=Australia/Brisbane:20260328T153000
DTEND;TZID=Australia/Brisbane:20260328T170000
DTSTAMP:20260422T065742
CREATED:20240213T215252Z
LAST-MODIFIED:20260307T033241Z
UID:9353-1774711800-1774717200@5thavenuedance.com.au
SUMMARY:5th Avenue Dance - Dress Rehearsal
DESCRIPTION:Dress rehearsal for all stars for the upcoming Showcase Ball \nNerves abound and it is our first time in costume in front of more than one person. \nSo this is a closed event\, only for those presenting a showcase exhibition. \nFor the rest\, come along to the Ball on Saturday 18th April\, at the Surfers Paradise Golf Club – Clear Island Waters
URL:https://5thavenuedance.com.au/event/5th-avenue-dance-dress-rehearsal/
LOCATION:5th Avenue Dance\, 7/115 Currumburra Rd\, Ashmore\, QLD\, 4214\, Australia
END:VEVENT
END:VCALENDAR