BEGIN:VCALENDAR
VERSION:2.0
PRODID:-//5th Avenue Dance Gold Coast - ECPv6.15.20//NONSGML v1.0//EN
CALSCALE:GREGORIAN
METHOD:PUBLISH
X-WR-CALNAME:5th Avenue Dance Gold Coast
X-ORIGINAL-URL:https://5thavenuedance.com.au
X-WR-CALDESC:Events for 5th Avenue Dance Gold Coast
REFRESH-INTERVAL;VALUE=DURATION:PT1H
X-Robots-Tag:noindex
X-PUBLISHED-TTL:PT1H
BEGIN:VTIMEZONE
TZID:Australia/Brisbane
BEGIN:STANDARD
TZOFFSETFROM:+1000
TZOFFSETTO:+1000
TZNAME:AEST
DTSTART:20250101T000000
END:STANDARD
END:VTIMEZONE
BEGIN:VEVENT
DTSTART;TZID=Australia/Brisbane:20260515T180000
DTEND;TZID=Australia/Brisbane:20260515T193000
DTSTAMP:20260422T081657
CREATED:20240727T060745Z
LAST-MODIFIED:20260402T231718Z
UID:10051-1778868000-1778873400@5thavenuedance.com.au
SUMMARY:Social Practice Evening - Let's Party
DESCRIPTION:Party Night – Social Dancing on the Gold Coast\n5th Avenue Dance\nWe kick off with a Group at 6pm followed by fun dancing! \nYes\, Punch and some nibble will be available \nBring Your Own – alcohol (not mandatory) \nAlso\, bring a plate if you are so inclined \nPerfect place to practice\, catch up with friends\, and dance with everybody!\nThis event is for current students only. \nIf you are not with us yet at 5th Avenue Dance\nCome in for a free lesson and we can get you started \nGet Started today\nPlease let us know if you are coming ^_^\nLooking forward to seeing you!\nMaki & Steven \n#learntodancegoldcoast\n#5thavenuedance
URL:https://5thavenuedance.com.au/event/social-dancing-on-the-gold-coast/
LOCATION:5th Avenue Dance\, 7/115 Currumburra Rd\, Ashmore\, QLD\, 4214\, Australia
END:VEVENT
END:VCALENDAR