BEGIN:VCALENDAR
VERSION:2.0
PRODID:-//5th Avenue Dance Gold Coast - ECPv6.15.20//NONSGML v1.0//EN
CALSCALE:GREGORIAN
METHOD:PUBLISH
X-WR-CALNAME:5th Avenue Dance Gold Coast
X-ORIGINAL-URL:https://5thavenuedance.com.au
X-WR-CALDESC:Events for 5th Avenue Dance Gold Coast
REFRESH-INTERVAL;VALUE=DURATION:PT1H
X-Robots-Tag:noindex
X-PUBLISHED-TTL:PT1H
BEGIN:VTIMEZONE
TZID:Australia/Brisbane
BEGIN:STANDARD
TZOFFSETFROM:+1000
TZOFFSETTO:+1000
TZNAME:AEST
DTSTART:20250101T000000
END:STANDARD
END:VTIMEZONE
BEGIN:VEVENT
DTSTART;TZID=Australia/Brisbane:20260509T093000
DTEND;TZID=Australia/Brisbane:20260509T101500
DTSTAMP:20260422T081656
CREATED:20240727T065955Z
LAST-MODIFIED:20260419T221058Z
UID:10088-1778319000-1778321700@5thavenuedance.com.au
SUMMARY:Social Dance Groups - Gold Coast
DESCRIPTION:Social Dance Classes on the Gold Coast\nThis Week: East Coast Swing\, Tango\, Argentine Tango\nThis group caters for those in Silver & Gold \nWill focus on both; new steps or reviews those known\, and some Bronze\, Silver and Gold Style and Techniques \nNew to 5th Avenue Dance?\nThink this group might be for you? \nBook in your free Private Lesson and let us assess and let you know where you would fit in best \nFind out more\n  \n#learntodancegoldcoast\n#5thavenuedance
URL:https://5thavenuedance.com.au/event/social-dance-lessons-gold-coast-2/
LOCATION:5th Avenue Dance\, 7/115 Currumburra Rd\, Ashmore\, QLD\, 4214\, Australia
END:VEVENT
BEGIN:VEVENT
DTSTART;TZID=Australia/Brisbane:20260509T110000
DTEND;TZID=Australia/Brisbane:20260509T114500
DTSTAMP:20260422T081656
CREATED:20240727T065138Z
LAST-MODIFIED:20260419T221032Z
UID:10080-1778324400-1778327100@5thavenuedance.com.au
SUMMARY:Learning to Dance Group Classes
DESCRIPTION:Learning to Dance in Group Lessons on the Gold Coast\nToday: Waltz\, Rumba\, Argentine Tango\nThis group caters for those in Bronze 1 & Bronze 2 \nWill focus on both; new steps or reviews those known\, and some Bronze Style and Techniques \nThose in Bronze 3 and above are welcome to attend for extra practice \nNew to 5th Avenue Dance?\nThink this group might be for you? \nBook in your free Private Lesson and let us assess and let you know where you would fit in best \nBook you Free Lesson Here\n  \n#learntodancegoldcoast\n#5thavenuedance
URL:https://5thavenuedance.com.au/event/learn-to-dance-gold-coast/
LOCATION:5th Avenue Dance\, 7/115 Currumburra Rd\, Ashmore\, QLD\, 4214\, Australia
END:VEVENT
BEGIN:VEVENT
DTSTART;TZID=Australia/Brisbane:20260509T110000
DTEND;TZID=Australia/Brisbane:20260509T114500
DTSTAMP:20260422T081656
CREATED:20240727T065502Z
LAST-MODIFIED:20260419T220959Z
UID:10084-1778324400-1778327100@5thavenuedance.com.au
SUMMARY:Learn to Dance Group Lessons
DESCRIPTION:Learn to Dance Groups on the Gold Coast\nThis Week: Waltz\, Rumba\nThis group caters for those in Dance Planning. \nWill focus on both; new steps or reviews those known\, have some fun and let you feel your dancing. \nNew to 5th Avenue Dance?\nThink this group might be for you? \nBook in your free Private Lesson and let us assess and let you know where you would fit in best \nFind out more\n  \n@5thavenuedance\n@learntodanceonline
URL:https://5thavenuedance.com.au/event/learn-to-dance-gold-coast-2/
LOCATION:5th Avenue Dance\, 7/115 Currumburra Rd\, Ashmore\, QLD\, 4214\, Australia
END:VEVENT
END:VCALENDAR