BEGIN:VCALENDAR
VERSION:2.0
PRODID:-//5th Avenue Dance Gold Coast - ECPv6.15.20//NONSGML v1.0//EN
CALSCALE:GREGORIAN
METHOD:PUBLISH
X-ORIGINAL-URL:https://5thavenuedance.com.au
X-WR-CALDESC:Events for 5th Avenue Dance Gold Coast
REFRESH-INTERVAL;VALUE=DURATION:PT1H
X-Robots-Tag:noindex
X-PUBLISHED-TTL:PT1H
BEGIN:VTIMEZONE
TZID:Australia/Brisbane
BEGIN:STANDARD
TZOFFSETFROM:+1000
TZOFFSETTO:+1000
TZNAME:AEST
DTSTART:20250101T000000
END:STANDARD
END:VTIMEZONE
BEGIN:VEVENT
DTSTART;TZID=Australia/Brisbane:20260430T180000
DTEND;TZID=Australia/Brisbane:20260430T184500
DTSTAMP:20260422T064852
CREATED:20260110T041146Z
LAST-MODIFIED:20260414T220001Z
UID:13096-1777572000-1777574700@5thavenuedance.com.au
SUMMARY:Dance Classes on the Gold Coast
DESCRIPTION:Group Dance Classes on the Gold Coast\nThis Week: Waltz\, Rumba\, Mambo\nThis group caters for those in Bronze 2 & 3 \nWill focus on both; new steps or reviews those known\, have some fun and let you feel your dancing. \nNew to 5th Avenue Dance?\nThink this group might be for you? \nBook in your free Private Lesson and let us assess and let you know where you would fit in best \nFind out more\n  \n@5thavenuedance\n@learntodanceonline
URL:https://5thavenuedance.com.au/event/dance-classes-on-the-gold-coast/
END:VEVENT
END:VCALENDAR