BEGIN:VCALENDAR
VERSION:2.0
PRODID:-//5th Avenue Dance Gold Coast - ECPv6.15.20//NONSGML v1.0//EN
CALSCALE:GREGORIAN
METHOD:PUBLISH
X-WR-CALNAME:5th Avenue Dance Gold Coast
X-ORIGINAL-URL:https://5thavenuedance.com.au
X-WR-CALDESC:Events for 5th Avenue Dance Gold Coast
REFRESH-INTERVAL;VALUE=DURATION:PT1H
X-Robots-Tag:noindex
X-PUBLISHED-TTL:PT1H
BEGIN:VTIMEZONE
TZID:Australia/Brisbane
BEGIN:STANDARD
TZOFFSETFROM:+1000
TZOFFSETTO:+1000
TZNAME:AEST
DTSTART:20250101T000000
END:STANDARD
END:VTIMEZONE
BEGIN:VEVENT
DTSTART;TZID=Australia/Brisbane:20260425T093000
DTEND;TZID=Australia/Brisbane:20260425T101500
DTSTAMP:20260422T063936
CREATED:20240727T062021Z
LAST-MODIFIED:20260402T231534Z
UID:10057-1777109400-1777112100@5thavenuedance.com.au
SUMMARY:Adult Dance Lessons Gold Coast
DESCRIPTION:Adult Dance Lessons on the Gold Coast\nThis Week: Cha Cha\, Foxtrot\, Bolero\nThis group caters for those in Silver & Gold \nWill focus on both; new steps or reviews those known\, and some Bronze\, Silver and Gold Style and Techniques \nNew to 5th Avenue Dance?\nThink this group might be for you? \nBook in your free Private Lesson and let us assess and let you know where you would fit in best \nFind out more\n  \n#learntodancegoldcoast\n#5thavenuedance
URL:https://5thavenuedance.com.au/event/adult-dance-classes-gold-coast/
LOCATION:5th Avenue Dance\, 7/115 Currumburra Rd\, Ashmore\, QLD\, 4214\, Australia
END:VEVENT
BEGIN:VEVENT
DTSTART;TZID=Australia/Brisbane:20260425T110000
DTEND;TZID=Australia/Brisbane:20260425T114500
DTSTAMP:20260422T063936
CREATED:20240727T061842Z
LAST-MODIFIED:20260402T231410Z
UID:10055-1777114800-1777117500@5thavenuedance.com.au
SUMMARY:Classes on the Gold Coast
DESCRIPTION:Group Dance Classes on the Gold Coast\nThis Week: Tango\, East Coast Swing\nThis group caters for those in Dance Planning \nWill focus on both; new steps or reviews those known\, have some fun and let you feel your dancing. \nNew to 5th Avenue Dance?\nThink this group might be for you? \nBook in your free Private Lesson and let us assess and let you know where you would fit in best \nFind out more\n  \n@5thavenuedance\n@learntodanceonline
URL:https://5thavenuedance.com.au/event/dance-lessons-gold-coast-2/
LOCATION:5th Avenue Dance\, 7/115 Currumburra Rd\, Ashmore\, QLD\, 4214\, Australia
END:VEVENT
BEGIN:VEVENT
DTSTART;TZID=Australia/Brisbane:20260425T110000
DTEND;TZID=Australia/Brisbane:20260425T114500
DTSTAMP:20260422T063936
CREATED:20260402T232414Z
LAST-MODIFIED:20260402T232414Z
UID:13751-1777114800-1777117500@5thavenuedance.com.au
SUMMARY:Learning to Dance Group Classes
DESCRIPTION:Learning to Dance in Group Lessons on the Gold Coast\nToday: Tango\, East Coast Swing\, Salsa\nThis group caters for those in Bronze 1 & Bronze 2 \nWill focus on both; new steps or reviews those known\, and some Bronze Style and Techniques \nThose in Bronze 3 and above are welcome to attend for extra practice \nNew to 5th Avenue Dance?\nThink this group might be for you? \nBook in your free Private Lesson and let us assess and let you know where you would fit in best \nBook you Free Lesson Here\n  \n#learntodancegoldcoast\n#5thavenuedance
URL:https://5thavenuedance.com.au/event/learning-to-dance-group-classes/
LOCATION:5th Avenue Dance\, 7/115 Currumburra Rd\, Ashmore\, QLD\, 4214\, Australia
END:VEVENT
END:VCALENDAR