BEGIN:VCALENDAR
VERSION:2.0
PRODID:-//5th Avenue Dance Gold Coast - ECPv6.15.20//NONSGML v1.0//EN
CALSCALE:GREGORIAN
METHOD:PUBLISH
X-WR-CALNAME:5th Avenue Dance Gold Coast
X-ORIGINAL-URL:https://5thavenuedance.com.au
X-WR-CALDESC:Events for 5th Avenue Dance Gold Coast
REFRESH-INTERVAL;VALUE=DURATION:PT1H
X-Robots-Tag:noindex
X-PUBLISHED-TTL:PT1H
BEGIN:VTIMEZONE
TZID:Australia/Brisbane
BEGIN:STANDARD
TZOFFSETFROM:+1000
TZOFFSETTO:+1000
TZNAME:AEST
DTSTART:20250101T000000
END:STANDARD
END:VTIMEZONE
BEGIN:VEVENT
DTSTART;TZID=Australia/Brisbane:20260423T180000
DTEND;TZID=Australia/Brisbane:20260423T184500
DTSTAMP:20260422T040525
CREATED:20260419T221800Z
LAST-MODIFIED:20260419T221800Z
UID:13768-1776967200-1776969900@5thavenuedance.com.au
SUMMARY:Bachata Classes on the Gold Coast
DESCRIPTION:Bachata Group Dance Classes on the Gold Coast\nThis Week: Cha Cha\, Foxtrot\, Merengue\nThis group caters for those in Bronze 2 & 3 \nWill focus on both; new steps or reviews those known\, have some fun and let you feel your dancing. \nNew to 5th Avenue Dance?\nThink this group might be for you? \nBook in your free Private Lesson and let us assess and let you know where you would fit in best \nFind out more\n  \n@5thavenuedance\n@learntodanceonline
URL:https://5thavenuedance.com.au/event/bachata-classes-on-the-gold-coast/
END:VEVENT
END:VCALENDAR