BEGIN:VCALENDAR
VERSION:2.0
PRODID:-//5th Avenue Dance Gold Coast - ECPv6.15.20//NONSGML v1.0//EN
CALSCALE:GREGORIAN
METHOD:PUBLISH
X-WR-CALNAME:5th Avenue Dance Gold Coast
X-ORIGINAL-URL:https://5thavenuedance.com.au
X-WR-CALDESC:Events for 5th Avenue Dance Gold Coast
REFRESH-INTERVAL;VALUE=DURATION:PT1H
X-Robots-Tag:noindex
X-PUBLISHED-TTL:PT1H
BEGIN:VTIMEZONE
TZID:Australia/Brisbane
BEGIN:STANDARD
TZOFFSETFROM:+1000
TZOFFSETTO:+1000
TZNAME:AEST
DTSTART:20250101T000000
END:STANDARD
END:VTIMEZONE
BEGIN:VEVENT
DTSTART;TZID=Australia/Brisbane:20260422T180000
DTEND;TZID=Australia/Brisbane:20260422T184500
DTSTAMP:20260422T013936
CREATED:20240727T062834Z
LAST-MODIFIED:20260402T232106Z
UID:10063-1776880800-1776883500@5thavenuedance.com.au
SUMMARY:Best Group Classes Gold Coast
DESCRIPTION:Best of the Best Group Classes on the Gold Coast\nDances this Week: Rumba\, Waltz\, Argentine Tango\nThis group caters for those in Bronze 3 & Bronze 4 students. \nWill focus on both; new steps or reviews those known\, and some Bronze Style and Techniques \nThose in Silver and Gold are welcome to attend for extra practice \nNew to 5th Avenue Dance?\nThink this group might be for you? \nBook in your free Private Lesson and let us assess and let you know where you would fit in best \nYour Free Lesson Here\n  \n@5thavenuedance\n@learntodanceonline
URL:https://5thavenuedance.com.au/event/best-dance-lessons-gold-coast/
LOCATION:5th Avenue Dance\, 7/115 Currumburra Rd\, Ashmore\, QLD\, 4214\, Australia
END:VEVENT
BEGIN:VEVENT
DTSTART;TZID=Australia/Brisbane:20260422T180000
DTEND;TZID=Australia/Brisbane:20260422T184500
DTSTAMP:20260422T013936
CREATED:20240727T063007Z
LAST-MODIFIED:20260402T231924Z
UID:10065-1776880800-1776883500@5thavenuedance.com.au
SUMMARY:Learn Latin Dancing
DESCRIPTION:Social Ease Group Lessons a Great Place to Learn Latin Dancing\nThis Week: Rumba\, Waltz\nThis group caters for those in Social Ease \nWill focus on both; new steps or reviews those known\, have some fun and let you feel your dancing. \nThose in Bronze 1 are welcome to attend for extra Practice. \nNew to 5th Avenue Dance?\nThink this group might be for you? \nBook in your free Private Lesson and let us assess and let you know where you would fit in best. \nFind out more\n  \n#learntodancegoldcoast\n#5thavenuedance
URL:https://5thavenuedance.com.au/event/learn-to-latin-dance-gold-coast/
LOCATION:5th Avenue Dance\, 7/115 Currumburra Rd\, Ashmore\, QLD\, 4214\, Australia
END:VEVENT
END:VCALENDAR