BEGIN:VCALENDAR
VERSION:2.0
PRODID:-//5th Avenue Dance Gold Coast - ECPv6.15.20//NONSGML v1.0//EN
CALSCALE:GREGORIAN
METHOD:PUBLISH
X-ORIGINAL-URL:https://5thavenuedance.com.au
X-WR-CALDESC:Events for 5th Avenue Dance Gold Coast
REFRESH-INTERVAL;VALUE=DURATION:PT1H
X-Robots-Tag:noindex
X-PUBLISHED-TTL:PT1H
BEGIN:VTIMEZONE
TZID:Australia/Brisbane
BEGIN:STANDARD
TZOFFSETFROM:+1000
TZOFFSETTO:+1000
TZNAME:AEST
DTSTART:20250101T000000
END:STANDARD
END:VTIMEZONE
BEGIN:VEVENT
DTSTART;TZID=Australia/Brisbane:20260404T080000
DTEND;TZID=Australia/Brisbane:20260414T170000
DTSTAMP:20260422T064902
CREATED:20240208T064149Z
LAST-MODIFIED:20250906T005750Z
UID:9314-1775289600-1776186000@5thavenuedance.com.au
SUMMARY:Mr. Bock away
DESCRIPTION:Mr. Bock on annual leave – in Raja Ampat\, Indonesia
URL:https://5thavenuedance.com.au/event/miss-sato-away/
LOCATION:Raja Ampat\, Indonesia
END:VEVENT
END:VCALENDAR