BEGIN:VCALENDAR
VERSION:2.0
PRODID:-//5th Avenue Dance Gold Coast - ECPv6.15.20//NONSGML v1.0//EN
CALSCALE:GREGORIAN
METHOD:PUBLISH
X-ORIGINAL-URL:https://5thavenuedance.com.au
X-WR-CALDESC:Events for 5th Avenue Dance Gold Coast
REFRESH-INTERVAL;VALUE=DURATION:PT1H
X-Robots-Tag:noindex
X-PUBLISHED-TTL:PT1H
BEGIN:VTIMEZONE
TZID:Australia/Brisbane
BEGIN:STANDARD
TZOFFSETFROM:+1000
TZOFFSETTO:+1000
TZNAME:AEST
DTSTART:20230101T000000
END:STANDARD
END:VTIMEZONE
BEGIN:VEVENT
DTSTART;TZID=Australia/Brisbane:20240223T180000
DTEND;TZID=Australia/Brisbane:20240223T191500
DTSTAMP:20260420T214159
CREATED:20230710T000608Z
LAST-MODIFIED:20240127T041946Z
UID:8815-1708711200-1708715700@5thavenuedance.com.au
SUMMARY:Studio Party
DESCRIPTION:Social Night: Group at 6pm followed by fun dancing! \nYes\, Punch and some nibble will be available \nBring Your Own – alcohol (not mandatory) \nAlso\, bring a plate if you are so inclined \nPerfect place to practice\, catch up with friends\, and dance with everybody!\nThis event is for current students only.\nPlease let us know if you are coming ^_^\nLooking forward to seeing you!\nMaki & Steven
URL:https://5thavenuedance.com.au/event/studio-party-5/
LOCATION:5th Avenue Dance\, 7/115 Currumburra Rd\, Ashmore\, QLD\, 4214\, Australia
END:VEVENT
END:VCALENDAR